BEGIN:VCALENDAR
VERSION:2.0
PRODID:-//81.169.145.165//NONSGML kigkonsult.se iCalcreator 2.20//
CALSCALE:GREGORIAN
METHOD:PUBLISH
X-WR-TIMEZONE:UTC
BEGIN:VEVENT
UID:event6@Gemeindefeuerwehr Großrückerswalde
DTSTAMP:20260421T234429Z
CATEGORIES:Ortsfeuerwehr Großrückerswalde
DESCRIPTION:Blaulichtgottesdienst\nKategorie: Ortsfeuerwehr Großrückerswald
 e\nICS-Link: https://feuerwehr-grossrueckerswalde.de/index.php?option=com_
 jem&view=event&id=6:blaulichtgottesdienst\n
DTSTART:20150913T140000Z
DTEND:20150913T140000Z
LOCATION:Großrückerswalde\,09518
SUMMARY:Blaulichtgottesdienst
URL:https://feuerwehr-grossrueckerswalde.de/index.php?option=com_jem&view=e
 vent&id=6:blaulichtgottesdienst
END:VEVENT
END:VCALENDAR
