BEGIN:VCALENDAR
VERSION:2.0
PRODID:-//81.169.145.165//NONSGML kigkonsult.se iCalcreator 2.20//
CALSCALE:GREGORIAN
METHOD:PUBLISH
X-WR-TIMEZONE:UTC
BEGIN:VEVENT
UID:event31@Gemeindefeuerwehr Großrückerswalde
DTSTAMP:20260422T033222Z
CATEGORIES:Gemeindefeuerwehr Großrückerswalde
DESCRIPTION:Hexenfeuer\nKategorie: Gemeindefeuerwehr Großrückerswalde\nICS-
 Link: https://feuerwehr-grossrueckerswalde.de/index.php?option=com_jem&vie
 w=event&id=31:hexenfeuer\n
DTSTART;VALUE=DATE:20170430
DTEND;VALUE=DATE:20170501
SUMMARY:Hexenfeuer
URL:https://feuerwehr-grossrueckerswalde.de/index.php?option=com_jem&view=e
 vent&id=31:hexenfeuer
END:VEVENT
END:VCALENDAR
